BEGIN:VCALENDAR
VERSION:2.0
PRODID:-//ChamberMaster//Event Calendar 2.0//EN
METHOD:PUBLISH
X-PUBLISHED-TTL:P3D
REFRESH-INTERVAL:P3D
CALSCALE:GREGORIAN
BEGIN:VEVENT
DTSTART:20160701T190000Z
DTEND:20160701T210000Z
X-MICROSOFT-CDO-ALLDAYEVENT:FALSE
SUMMARY:Quinn Flags Annual July 4th Picnic
DESCRIPTION:Hanover\, PA- Quinn Flags staff celebrated Independence Day on Friday\, July 1st with our Annual Company BBQ.   The red\, white\, and blue themed party was catered by local favorite Boneyard Barbeque and featured a variety of fun outdoor games. Although our tagline is\, "Not Just Flags!"\, the event included plenty of flags\, food and fun celebrating the contributions of all Quinn Flags staff and the Birthday of the USA!
X-ALT-DESC;FMTTYPE=text/html:Hanover\, PA- Quinn Flags staff celebrated Independence Day on Friday\, July 1st with our Annual Company BBQ.&nbsp\;&nbsp\; The red\, white\, and blue themed party was catered by local favorite Boneyard Barbeque and featured a variety of fun outdoor games. Although our tagline is\, &quot\;Not Just Flags!&quot\;\, the event included plenty of flags\, food and fun celebrating the contributions of all Quinn Flags staff and the Birthday of the USA!
LOCATION:Hanover\, PA
UID:e.1500.1174
SEQUENCE:3
DTSTAMP:20260422T103101Z
URL:https://business.hanoverchamber.com/events/details/quinn-flags-annual-july-4th-picnic-07-01-2016-1174
END:VEVENT

END:VCALENDAR
