BEGIN:VCALENDAR
VERSION:2.0
PRODID:-//ChamberMaster//Event Calendar 2.0//EN
METHOD:PUBLISH
X-PUBLISHED-TTL:P3D
REFRESH-INTERVAL:P3D
CALSCALE:GREGORIAN
BEGIN:VEVENT
DTSTART:20171014T220000Z
DTEND:20171015T010000Z
X-MICROSOFT-CDO-ALLDAYEVENT:FALSE
SUMMARY:Pumpkin Walk
DESCRIPTION:Pumpkin Walk\n\nEnjoy a 1/2- mile walk on the Seven Valley\, PA section of the Heritage Rail Trail that is decorated and lighted with hand-carved pumpkins.
X-ALT-DESC;FMTTYPE=text/html:Pumpkin Walk<br />\nEnjoy a 1/2- mile walk on the Seven Valley\, PA section of the Heritage Rail Trail that is decorated and lighted with hand-carved pumpkins.&nbsp\;
LOCATION:Seven Valley\, PA section of the Heritage Rail Trail
UID:e.1500.3083
SEQUENCE:3
DTSTAMP:20260421T105349Z
URL:https://business.hanoverchamber.com/events/details/pumpkin-walk-3083
END:VEVENT

END:VCALENDAR
