BEGIN:VCALENDAR
VERSION:2.0
PRODID:-//ChamberMaster//Event Calendar 2.0//EN
METHOD:PUBLISH
X-PUBLISHED-TTL:P3D
REFRESH-INTERVAL:P3D
CALSCALE:GREGORIAN
BEGIN:VEVENT
DTSTART:20160929T130000Z
DTEND:20160929T140000Z
X-MICROSOFT-CDO-ALLDAYEVENT:FALSE
SUMMARY:Problem Solving and Innovative Thinking Skills presented by Roxtar Consulting
DESCRIPTION:This highly interactive forum will give you the basics of creative innovation and problem solving to differentiate you from the competition.\n\n\n\nYou Will Learn How To:\n\n	Clearly Define Problems and Opportunities\n	Apply Root Cause Analysis to Reveal Core Drivers\n	Generate and Prioritize Effective Solutions
X-ALT-DESC;FMTTYPE=text/html:This highly interactive forum will give you the basics of creative innovation and problem solving to differentiate you from the competition.<br />\n<br />\nYou Will Learn How To:\n<ul>\n	<li style="line-height:105%\;">Clearly Define Problems and Opportunities</li>\n	<li style="line-height:105%\;">Apply Root Cause Analysis to Reveal Core Drivers</li>\n	<li style="line-height:105%\;">Generate and Prioritize Effective Solutions</li>\n</ul>\n
LOCATION:135 Baltimore Street\, Hanover\, PA 2nd floor in the New Hope Ministries building
UID:e.1500.1178
SEQUENCE:3
DTSTAMP:20260422T073826Z
URL:https://business.hanoverchamber.com/events/details/problem-solving-and-innovative-thinking-skills-presented-by-roxtar-consulting-09-29-2016-1178
END:VEVENT

END:VCALENDAR
