BEGIN:VCALENDAR
VERSION:2.0
PRODID:-//ChamberMaster//Event Calendar 2.0//EN
METHOD:PUBLISH
X-PUBLISHED-TTL:P3D
REFRESH-INTERVAL:P3D
CALSCALE:GREGORIAN
BEGIN:VEVENT
DTSTART:20170916T140000Z
DTEND:20170916T200000Z
X-MICROSOFT-CDO-ALLDAYEVENT:FALSE
SUMMARY:Praise in the Park
DESCRIPTION:Join us for "Praise In The Park" on Saturday\, September 16 from 10:00 AM   4:00 PM at Crouse Park and hosted by Bethel Assembly of God in Littlestown. Music genres will include hymns\, contemporary choruses\, vocals\, as well as instrumental pieces. Bring your blankets\, lawn chairs\, and snacks for a great day of music\, worship\, and fellowship! Pastor Leah Yingling at (717) 398-8102.
X-ALT-DESC;FMTTYPE=text/html:Join us for &quot\;Praise In The Park&quot\; on Saturday\, September 16 from 10:00 AM &ndash\; 4:00 PM at Crouse Park and hosted by Bethel Assembly of God in Littlestown. Music genres will include hymns\, contemporary choruses\, vocals\, as well as instrumental pieces. Bring your blankets\, lawn chairs\, and snacks for a great day of music\, worship\, and fellowship! Pastor Leah Yingling at (717) 398-8102.
LOCATION:Crouse Park in Littlestown\, PA.
UID:e.1500.3058
SEQUENCE:3
DTSTAMP:20260421T121702Z
URL:https://business.hanoverchamber.com/events/details/praise-in-the-park-3058
END:VEVENT

END:VCALENDAR
