BEGIN:VCALENDAR
VERSION:2.0
PRODID:-//ChamberMaster//Event Calendar 2.0//EN
METHOD:PUBLISH
X-PUBLISHED-TTL:P3D
REFRESH-INTERVAL:P3D
CALSCALE:GREGORIAN
BEGIN:VEVENT
DTSTART:20151206T220000Z
DTEND:20151207T010000Z
X-MICROSOFT-CDO-ALLDAYEVENT:FALSE
SUMMARY:Polar Express Pajama Party
DESCRIPTION:It's time again to BELIEVE. The magic of the Polar Express pulls into the AACA Museum again for the Polar Express Pajama Party!\n\nVisitors are greeted at the door by a railroad conductor who stamps their golden ticket and they are free to enjoy a tour of the AACA Museum including the Polar Express model train display along with several other train displays and dozens of holiday trees\, specialty vehicles and more in our holiday wonderland. Pajamas\, pillows\, blankets and stuffed animals are encouraged!\n\nAdmission to this event includes some kid friendly food   hot dogs\, popcorn\, cookies\, hot chocolate and pizza.\n\nEnjoy the movie   one of the modern day classics "The Polar Express" right here inside the AACA Museum. Movie will begin @ 6:00 PM and lasts 1 hour and 30 minutes.\n\nSanta will also be making a special appearance!\n\nAdvance tickets required. Regular Admission $18\, Children 4-12 Years   $15\, Children 3 & Under are FREE.
X-ALT-DESC;FMTTYPE=text/html:<p style="color: rgb(34\, 34\, 34)\; line-height: normal\; font-family: arial\, sans-serif\; font-size: 12.8px\;">It&rsquo\;s time again to BELIEVE. The magic of the Polar Express pulls into the AACA Museum again&nbsp\;for the Polar Express Pajama Party!</p>\n\n<p style="color: rgb(34\, 34\, 34)\; line-height: normal\; font-family: arial\, sans-serif\; font-size: 12.8px\;">Visitors are greeted at the door by a railroad conductor who stamps their golden ticket and they are free to enjoy a tour of the AACA Museum including the Polar Express model train display along with several other train displays and dozens of holiday trees\, specialty vehicles and more in our holiday wonderland. Pajamas\, pillows\, blankets and stuffed animals are encouraged!</p>\n\n<p style="color: rgb(34\, 34\, 34)\; line-height: normal\; font-family: arial\, sans-serif\; font-size: 12.8px\;">Admission to this event includes some kid friendly food &ndash\; hot dogs\, popcorn\, cookies\, hot chocolate and pizza.</p>\n\n<p style="color: rgb(34\, 34\, 34)\; line-height: normal\; font-family: arial\, sans-serif\; font-size: 12.8px\;">Enjoy the movie&nbsp\;&ndash\; one of the modern day classics &ldquo\;The Polar Express&rdquo\; right here inside the AACA Museum.&nbsp\;<strong>Movie will begin @ 6:00 PM</strong>&nbsp\;and lasts 1 hour and 30 minutes.</p>\n\n<p style="color: rgb(34\, 34\, 34)\; line-height: normal\; font-family: arial\, sans-serif\; font-size: 12.8px\;">Santa will also be making a special appearance!</p>\n\n<p style="color: rgb(34\, 34\, 34)\; line-height: normal\; font-family: arial\, sans-serif\; font-size: 12.8px\;"><strong>Advance tickets required. Regular Admission $18\, Children 4-12 Years &ndash\; $15\, Children 3 &amp\; Under are FREE.</strong></p>\n
LOCATION:AACA Museum 161 Museum Drive Hershey\, PA 17033
UID:e.1500.986
SEQUENCE:3
DTSTAMP:20260422T203535Z
URL:https://business.hanoverchamber.com/events/details/polar-express-pajama-party-12-06-2015-986
END:VEVENT

END:VCALENDAR
