BEGIN:VCALENDAR
VERSION:2.0
PRODID:-//ChamberMaster//Event Calendar 2.0//EN
METHOD:PUBLISH
X-PUBLISHED-TTL:P3D
REFRESH-INTERVAL:P3D
CALSCALE:GREGORIAN
BEGIN:VEVENT
DTSTART:20150621T170000Z
DTEND:20150621T200000Z
X-MICROSOFT-CDO-ALLDAYEVENT:FALSE
SUMMARY:Picnic Day at Adams County Winery
DESCRIPTION:Bring a picnic and join us for live acoustic rock with Mark Baxter\, free wine tastings in our Tasting Room\, and lawn games. This is a free\, family friendly event. No reservations are required. We will be holding this event rain or shine and have plenty of covered areas for guests. Picnic Day is from 1:00-4:00pm. For more information please visit our website\, www.adamscountywinery.com\, or call 717-334-4631
X-ALT-DESC;FMTTYPE=text/html:Bring a picnic and join us for live acoustic rock with Mark Baxter\, free wine tastings in our Tasting Room\, and lawn games. This is a free\, family friendly event. No reservations are required. We will be holding this event rain or shine and have plenty of covered areas for guests. Picnic Day is from 1:00-4:00pm. For more information please visit our website\, www.adamscountywinery.com\, or call 717-334-4631
LOCATION:Adams County Winery 251 Peach Tree Rd Orrtanna\, PA 17353
UID:e.1500.882
SEQUENCE:3
DTSTAMP:20260423T052957Z
URL:https://business.hanoverchamber.com/events/details/picnic-day-at-adams-county-winery-06-21-2015-882
END:VEVENT

END:VCALENDAR
