BEGIN:VCALENDAR
VERSION:2.0
PRODID:-//ChamberMaster//Event Calendar 2.0//EN
METHOD:PUBLISH
X-PUBLISHED-TTL:P3D
REFRESH-INTERVAL:P3D
CALSCALE:GREGORIAN
BEGIN:VEVENT
DTSTART:20160908T220000Z
DTEND:20160909T003000Z
X-MICROSOFT-CDO-ALLDAYEVENT:FALSE
SUMMARY:Mindfulness Based Stress Reduction 8 Week Group
DESCRIPTION:This program offers guided instruction and experience in mindful meditation and mindful movement. This group is for Adults (18+) and is offered in Hanover on Thursday evenings\, from 6:00pm - 8:30pm for eight consecutive weeks. The first session is September 8\, 2016. Please note: participants must complete an individual interview with instructor Karen Jones at our office before enrolling in the course. Please contact our office for further information or to register: (e) info@cognitivehealthsolutions.com\; (p) 717-632-8400
X-ALT-DESC;FMTTYPE=text/html:This program offers guided instruction and experience in mindful meditation and mindful movement. This group is for Adults (18+) and is offered in Hanover on Thursday evenings\, from 6:00pm - 8:30pm for eight consecutive weeks. The first session is September 8\, 2016. Please note: participants must complete an individual interview with instructor Karen Jones at our office before enrolling in the course. Please contact our office for further information or to register: (e) info@cognitivehealthsolutions.com\; (p) 717-632-8400
LOCATION:Cognitive Health Solutions\, LLC 100 W Eisenhower Dr.\, Ste A Hanover\, PA 17331
UID:e.1500.1172
SEQUENCE:3
DTSTAMP:20260422T073701Z
URL:https://business.hanoverchamber.com/events/details/mindfulness-based-stress-reduction-8-week-group-09-08-2016-1172
END:VEVENT

END:VCALENDAR
