BEGIN:VCALENDAR
VERSION:2.0
PRODID:-//ChamberMaster//Event Calendar 2.0//EN
METHOD:PUBLISH
X-PUBLISHED-TTL:P3D
REFRESH-INTERVAL:P3D
CALSCALE:GREGORIAN
BEGIN:VEVENT
DTSTART:20170831T200000Z
DTEND:20170831T230000Z
X-MICROSOFT-CDO-ALLDAYEVENT:FALSE
SUMMARY:Membership Mixer & Ribbon Cutting
DESCRIPTION:Membership Mixer    ScheduleScheduleScheduleScheduleSchedule
X-ALT-DESC;FMTTYPE=text/html:Membership Mixer&nbsp\;&nbsp\;&nbsp\;&nbsp\;<button id="tw_schedule_btn" style="padding: 4px 6px\; position: absolute\; left: 141px\; top: 840px\; background-image: linear-gradient(rgb(255\, 255\, 255)\, rgb(240\, 240\, 240))\; border: 1px solid rgb(204\, 204\, 204)\; color: rgb(95\, 95\, 95)\; cursor: pointer\; font-weight: bold\; text-shadow: rgb(255\, 255\, 255) 0px 1px\; white-space: nowrap\; border-top-left-radius: 3px\; border-top-right-radius: 3px\; border-bottom-right-radius: 3px\; border-bottom-left-radius: 3px\; font-size: 11px\; z-index: 8675309\; display: none\; background-position: initial initial\; background-repeat: initial initial\;"><span>Schedule</span></button><button id="tw_schedule_btn" style="padding: 4px 6px\; position: absolute\; left: 141px\; top: 840px\; background-image: linear-gradient(rgb(255\, 255\, 255)\, rgb(240\, 240\, 240))\; border: 1px solid rgb(204\, 204\, 204)\; color: rgb(95\, 95\, 95)\; cursor: pointer\; font-weight: bold\; text-shadow: rgb(255\, 255\, 255) 0px 1px\; white-space: nowrap\; border-top-left-radius: 3px\; border-top-right-radius: 3px\; border-bottom-right-radius: 3px\; border-bottom-left-radius: 3px\; font-size: 11px\; z-index: 8675309\; display: none\; background-position: initial initial\; background-repeat: initial initial\;"><span>Schedule</span></button><button id="tw_schedule_btn" style="padding: 4px 6px\; position: absolute\; left: 141px\; top: 840px\; background-image: linear-gradient(rgb(255\, 255\, 255)\, rgb(240\, 240\, 240))\; border: 1px solid rgb(204\, 204\, 204)\; color: rgb(95\, 95\, 95)\; cursor: pointer\; font-weight: bold\; text-shadow: rgb(255\, 255\, 255) 0px 1px\; white-space: nowrap\; border-top-left-radius: 3px\; border-top-right-radius: 3px\; border-bottom-right-radius: 3px\; border-bottom-left-radius: 3px\; font-size: 11px\; z-index: 8675309\; display: none\; background-position: initial initial\; background-repeat: initial initial\;"><span>Schedule</span></button><button id="tw_schedule_btn" style="padding: 4px 6px\; position: absolute\; left: 141px\; top: 840px\; background-image: linear-gradient(rgb(255\, 255\, 255)\, rgb(240\, 240\, 240))\; border: 1px solid rgb(204\, 204\, 204)\; color: rgb(95\, 95\, 95)\; cursor: pointer\; font-weight: bold\; text-shadow: rgb(255\, 255\, 255) 0px 1px\; white-space: nowrap\; border-top-left-radius: 3px\; border-top-right-radius: 3px\; border-bottom-right-radius: 3px\; border-bottom-left-radius: 3px\; font-size: 11px\; z-index: 8675309\; display: none\; background-position: initial initial\; background-repeat: initial initial\;"><span>Schedule</span></button><button id="tw_schedule_btn" style="padding: 4px 6px\; position: absolute\; left: 141px\; top: 840px\; background-image: linear-gradient(rgb(255\, 255\, 255)\, rgb(240\, 240\, 240))\; border: 1px solid rgb(204\, 204\, 204)\; color: rgb(95\, 95\, 95)\; cursor: pointer\; font-weight: bold\; text-shadow: rgb(255\, 255\, 255) 0px 1px\; white-space: nowrap\; border-top-left-radius: 3px\; border-top-right-radius: 3px\; border-bottom-right-radius: 3px\; border-bottom-left-radius: 3px\; font-size: 11px\; z-index: 8675309\; display: none\; background-position: initial initial\; background-repeat: initial initial\;"><span>Schedule</span></button>
LOCATION:Scaringi & Scaringi 1649 Broadway Hanover\, PA 17331 ScheduleScheduleScheduleScheduleSchedule
UID:e.1500.3007
SEQUENCE:3
DTSTAMP:20260421T141159Z
URL:https://business.hanoverchamber.com/events/details/membership-mixer-ribbon-cutting-3007
END:VEVENT

END:VCALENDAR
