BEGIN:VCALENDAR
VERSION:2.0
PRODID:-//ChamberMaster//Event Calendar 2.0//EN
METHOD:PUBLISH
X-PUBLISHED-TTL:P3D
REFRESH-INTERVAL:P3D
CALSCALE:GREGORIAN
BEGIN:VEVENT
DTSTART:20180315T210000Z
DTEND:20180315T230000Z
X-MICROSOFT-CDO-ALLDAYEVENT:FALSE
SUMMARY:Membership Mixer - iNet
DESCRIPTION:
X-ALT-DESC;FMTTYPE=text/html:
LOCATION:1000 Carlisle Street\, Suite 14D Hanover\, PA 17331
UID:e.1500.3085
SEQUENCE:3
DTSTAMP:20260421T030530Z
URL:https://business.hanoverchamber.com/events/details/membership-mixer-inet-3085
END:VEVENT

END:VCALENDAR
