BEGIN:VCALENDAR
VERSION:2.0
PRODID:-//ChamberMaster//Event Calendar 2.0//EN
METHOD:PUBLISH
X-PUBLISHED-TTL:P3D
REFRESH-INTERVAL:P3D
CALSCALE:GREGORIAN
BEGIN:VEVENT
DTSTART:20150326T213000Z
DTEND:20150326T233000Z
X-MICROSOFT-CDO-ALLDAYEVENT:FALSE
SUMMARY:Membership Mixer Hosted by Genova's To Go
DESCRIPTION:COME JOIN US FOR OUR MEMBERSHIP MIXER\n\nHOSTED BY GENOVA'S TO GO "MARCH MADNESS MIXER"!
X-ALT-DESC;FMTTYPE=text/html:<strong>COME JOIN US FOR OUR MEMBERSHIP MIXER<br />\nHOSTED BY GENOVA&#39\;S TO GO &quot\;MARCH MADNESS MIXER&quot\;!</strong>
LOCATION:GENOVA'S TO GO 1446 BALTIMORE ST. HANOVER\, PA 17331
UID:e.1500.852
SEQUENCE:3
DTSTAMP:20260423T104855Z
URL:https://business.hanoverchamber.com/events/details/membership-mixer-hosted-by-genova-s-to-go-03-26-2015-852
END:VEVENT

END:VCALENDAR
