BEGIN:VCALENDAR
VERSION:2.0
PRODID:-//ChamberMaster//Event Calendar 2.0//EN
METHOD:PUBLISH
X-PUBLISHED-TTL:P3D
REFRESH-INTERVAL:P3D
CALSCALE:GREGORIAN
BEGIN:VEVENT
DTSTART:20150312T213000Z
DTEND:20150312T233000Z
X-MICROSOFT-CDO-ALLDAYEVENT:FALSE
SUMMARY:Membership Mixer Hosted by Belco Community Credit Union
DESCRIPTION:COME JOIN US FOR OUR MEMBERSHIP MIXER\n\nHOSTED BY BELCO COMMUNITY CREDIT UNION!
X-ALT-DESC;FMTTYPE=text/html:<strong>COME JOIN US FOR OUR MEMBERSHIP MIXER<br />\nHOSTED BY BELCO COMMUNITY CREDIT UNION!</strong>
LOCATION:BELCO COMMUNITY CREDIT UNION 221 WILSON AVE. HANOVER\, PA 17331
UID:e.1500.851
SEQUENCE:3
DTSTAMP:20260423T105850Z
URL:https://business.hanoverchamber.com/events/details/membership-mixer-hosted-by-belco-community-credit-union-03-12-2015-851
END:VEVENT

END:VCALENDAR
