BEGIN:VCALENDAR
VERSION:2.0
PRODID:-//ChamberMaster//Event Calendar 2.0//EN
METHOD:PUBLISH
X-PUBLISHED-TTL:P3D
REFRESH-INTERVAL:P3D
CALSCALE:GREGORIAN
BEGIN:VEVENT
DTSTART:20160316T210000Z
DTEND:20160316T230000Z
X-MICROSOFT-CDO-ALLDAYEVENT:FALSE
SUMMARY:Membership Mixer At State Farm - Ryan California's Agency
DESCRIPTION:Membership Mixer
X-ALT-DESC;FMTTYPE=text/html:<span style="line-height: 20.8px\;">Membership Mixer &nbsp\; &nbsp\;</span>
LOCATION:State Farm - Ryan California's Agency 110 West Eisenhower Drive Hanover\, Pa 17331
UID:e.1500.1052
SEQUENCE:3
DTSTAMP:20260422T162248Z
URL:https://business.hanoverchamber.com/events/details/membership-mixer-at-state-farm-ryan-california-s-agency-03-16-2016-1052
END:VEVENT

END:VCALENDAR
