BEGIN:VCALENDAR
VERSION:2.0
PRODID:-//ChamberMaster//Event Calendar 2.0//EN
METHOD:PUBLISH
X-PUBLISHED-TTL:P3D
REFRESH-INTERVAL:P3D
CALSCALE:GREGORIAN
BEGIN:VEVENT
DTSTART:20170221T220000Z
DTEND:20170222T003000Z
X-MICROSOFT-CDO-ALLDAYEVENT:FALSE
SUMMARY:Membership Mixer At PA Theatrical Arts by Brittany Stevens
DESCRIPTION:Membership Mixer at PA Theatrical Arts by Brittany Stevens
X-ALT-DESC;FMTTYPE=text/html:Membership Mixer at PA Theatrical Arts by Brittany Stevens
LOCATION:PA Theatrical Arts by Brittany Stevens 10 N Railroad St. Hanover\, PA 17331
UID:e.1500.2290
SEQUENCE:3
DTSTAMP:20260421T232239Z
URL:https://business.hanoverchamber.com/events/details/membership-mixer-at-pa-theatrical-arts-by-brittany-stevens-2290
END:VEVENT

END:VCALENDAR
