BEGIN:VCALENDAR
VERSION:2.0
PRODID:-//ChamberMaster//Event Calendar 2.0//EN
METHOD:PUBLISH
X-PUBLISHED-TTL:P3D
REFRESH-INTERVAL:P3D
CALSCALE:GREGORIAN
BEGIN:VEVENT
DTSTART:20160608T110000Z
DTEND:20160608T130000Z
X-MICROSOFT-CDO-ALLDAYEVENT:FALSE
SUMMARY:Membership Mixer At Northwest Savings Bank
DESCRIPTION:Membership Mixer
X-ALT-DESC;FMTTYPE=text/html:Membership Mixer
LOCATION:Northwest Bank 1091 Eichelberger Street Hanover\, PA 17331
UID:e.1500.1053
SEQUENCE:3
DTSTAMP:20260422T120521Z
URL:https://business.hanoverchamber.com/events/details/membership-mixer-at-northwest-savings-bank-06-08-2016-1053
END:VEVENT

END:VCALENDAR
