BEGIN:VCALENDAR
VERSION:2.0
PRODID:-//ChamberMaster//Event Calendar 2.0//EN
METHOD:PUBLISH
X-PUBLISHED-TTL:P3D
REFRESH-INTERVAL:P3D
CALSCALE:GREGORIAN
BEGIN:VEVENT
DTSTART:20180426T210000Z
DTEND:20180426T230000Z
X-MICROSOFT-CDO-ALLDAYEVENT:FALSE
SUMMARY:Membership Mixer at New Hope Ministries
DESCRIPTION:
X-ALT-DESC;FMTTYPE=text/html:
LOCATION:New Hope Ministries 135 Baltimore St.\, Hanover
UID:e.1500.4192
SEQUENCE:3
DTSTAMP:20260421T010756Z
URL:https://business.hanoverchamber.com/events/details/membership-mixer-at-new-hope-ministries-4192
END:VEVENT

END:VCALENDAR
