BEGIN:VCALENDAR
VERSION:2.0
PRODID:-//ChamberMaster//Event Calendar 2.0//EN
METHOD:PUBLISH
X-PUBLISHED-TTL:P3D
REFRESH-INTERVAL:P3D
CALSCALE:GREGORIAN
BEGIN:VEVENT
DTSTART:20160223T220000Z
DTEND:20160224T000000Z
X-MICROSOFT-CDO-ALLDAYEVENT:FALSE
SUMMARY:Membership Mixer at La Cucina
DESCRIPTION:Membership Mixer
X-ALT-DESC;FMTTYPE=text/html:Membership Mixer&nbsp\;&nbsp\;&nbsp\;&nbsp\;
LOCATION:La Cucina Restaurant 1412 Baltimore Street Hanover\, PA 17331
UID:e.1500.1034
SEQUENCE:3
DTSTAMP:20260422T175613Z
URL:https://business.hanoverchamber.com/events/details/membership-mixer-at-la-cucina-02-23-2016-1034
END:VEVENT

END:VCALENDAR
