BEGIN:VCALENDAR
VERSION:2.0
PRODID:-//ChamberMaster//Event Calendar 2.0//EN
METHOD:PUBLISH
X-PUBLISHED-TTL:P3D
REFRESH-INTERVAL:P3D
CALSCALE:GREGORIAN
BEGIN:VEVENT
DTSTART:20150821T210000Z
DTEND:20150821T230000Z
X-MICROSOFT-CDO-ALLDAYEVENT:FALSE
SUMMARY:Membership Mixer at Hanover Area Arts Guild 8/21/2015
DESCRIPTION:Membership Mixer
X-ALT-DESC;FMTTYPE=text/html:Membership Mixer
LOCATION:Hanover Area Arts Guild 32 Carlisle St\, Hanover\, PA 17331
UID:e.1500.915
SEQUENCE:3
DTSTAMP:20260423T024329Z
URL:https://business.hanoverchamber.com/events/details/membership-mixer-at-hanover-area-arts-guild-8-21-2015-08-21-2015-915
END:VEVENT

END:VCALENDAR
