BEGIN:VCALENDAR
VERSION:2.0
PRODID:-//ChamberMaster//Event Calendar 2.0//EN
METHOD:PUBLISH
X-PUBLISHED-TTL:P3D
REFRESH-INTERVAL:P3D
CALSCALE:GREGORIAN
BEGIN:VEVENT
DTSTART:20170412T210000Z
DTEND:20170412T230000Z
X-MICROSOFT-CDO-ALLDAYEVENT:FALSE
SUMMARY:Membership Mixer at Hanover Area Arts Guild
DESCRIPTION:Membership Mixer
X-ALT-DESC;FMTTYPE=text/html:Membership Mixer
LOCATION:Hanover Area Arts Guild 32 Carlisle St\, Hanover\, PA 17331
UID:e.1500.2326
SEQUENCE:3
DTSTAMP:20260421T220351Z
URL:https://business.hanoverchamber.com/events/details/membership-mixer-at-hanover-area-arts-guild-2326
END:VEVENT

END:VCALENDAR
