BEGIN:VCALENDAR
VERSION:2.0
PRODID:-//ChamberMaster//Event Calendar 2.0//EN
METHOD:PUBLISH
X-PUBLISHED-TTL:P3D
REFRESH-INTERVAL:P3D
CALSCALE:GREGORIAN
BEGIN:VEVENT
DTSTART:20170525T203000Z
DTEND:20170525T223000Z
X-MICROSOFT-CDO-ALLDAYEVENT:FALSE
SUMMARY:Membership Mixer at Columbia Cottage
DESCRIPTION:Membership Mixer hosted by Columbia Cottage
X-ALT-DESC;FMTTYPE=text/html:Membership Mixer hosted by Columbia Cottage
LOCATION:Columbia Cottage 2288 Grandview Rd.\, Hanover
UID:e.1500.2515
SEQUENCE:3
DTSTAMP:20260421T202526Z
URL:https://business.hanoverchamber.com/events/details/membership-mixer-at-columbia-cottage-2515
END:VEVENT

END:VCALENDAR
