BEGIN:VCALENDAR
VERSION:2.0
PRODID:-//ChamberMaster//Event Calendar 2.0//EN
METHOD:PUBLISH
X-PUBLISHED-TTL:P3D
REFRESH-INTERVAL:P3D
CALSCALE:GREGORIAN
BEGIN:VEVENT
DTSTART:20150903T213000Z
DTEND:20150903T233000Z
X-MICROSOFT-CDO-ALLDAYEVENT:FALSE
SUMMARY:Membership Mixer at Academy for Media Production 9/3/2015
DESCRIPTION:Membership Mixer
X-ALT-DESC;FMTTYPE=text/html:Membership Mixer
LOCATION:Academy for Media Production (AMP) 238 Main Street\, McSherrystown\, PA 17344
UID:e.1500.916
SEQUENCE:3
DTSTAMP:20260423T011729Z
URL:https://business.hanoverchamber.com/events/details/membership-mixer-at-academy-for-media-production-9-3-2015-09-03-2015-916
END:VEVENT

END:VCALENDAR
