BEGIN:VCALENDAR
VERSION:2.0
PRODID:-//ChamberMaster//Event Calendar 2.0//EN
METHOD:PUBLISH
X-PUBLISHED-TTL:P3D
REFRESH-INTERVAL:P3D
CALSCALE:GREGORIAN
BEGIN:VEVENT
DTSTART:20170323T210000Z
DTEND:20170323T230000Z
X-MICROSOFT-CDO-ALLDAYEVENT:FALSE
SUMMARY:Membership Mixer at Ability Prosthetics & Orthotics
DESCRIPTION:Network with Chamber members and local business people at this month's Membership Mixer!
X-ALT-DESC;FMTTYPE=text/html:Network with Chamber members and local business people at this month&#39\;s Membership Mixer!
LOCATION:Ability Prosthetics & Orthotics 250 Fame Ave.\, Suite 102 Hanover\, PA 17331
UID:e.1500.2322
SEQUENCE:3
DTSTAMP:20260421T231613Z
URL:https://business.hanoverchamber.com/events/details/membership-mixer-at-ability-prosthetics-orthotics-2322
END:VEVENT

END:VCALENDAR
