BEGIN:VCALENDAR
VERSION:2.0
PRODID:-//ChamberMaster//Event Calendar 2.0//EN
METHOD:PUBLISH
X-PUBLISHED-TTL:P3D
REFRESH-INTERVAL:P3D
CALSCALE:GREGORIAN
BEGIN:VEVENT
DTSTART:20150916T113000Z
DTEND:20150916T130000Z
X-MICROSOFT-CDO-ALLDAYEVENT:FALSE
SUMMARY:Member Anniversary and Recognition Breakfast 09/16/2015
DESCRIPTION:Member Anniversary and Recognition Breakfast\n\n\n\nAll are welcome to attend!
X-ALT-DESC;FMTTYPE=text/html:&nbsp\;Member Anniversary and Recognition Breakfast<br />\n<br />\n<em>All are welcome to attend!</em>
LOCATION:Cross Keys Village 2990 Carlisle Pike New Oxford\, PA 17350
UID:e.1500.944
SEQUENCE:3
DTSTAMP:20260423T011507Z
URL:https://business.hanoverchamber.com/events/details/member-anniversary-and-recognition-breakfast-09-16-2015-09-16-2015-944
END:VEVENT

END:VCALENDAR
