BEGIN:VCALENDAR
VERSION:2.0
PRODID:-//ChamberMaster//Event Calendar 2.0//EN
METHOD:PUBLISH
X-PUBLISHED-TTL:P3D
REFRESH-INTERVAL:P3D
CALSCALE:GREGORIAN
BEGIN:VEVENT
DTSTART;VALUE=DATE:20160403
DTEND;VALUE=DATE:20160404
TRANSP:TRANSPARENT
X-MICROSOFT-CDO-ALLDAYEVENT:TRUE
SUMMARY:Marine Corps Museum
DESCRIPTION:Bus Trip Sponsored by the Hanover Area Historical Society.\n\nFor more information please visit their website at www.hahs.us
X-ALT-DESC;FMTTYPE=text/html:Bus Trip Sponsored by the Hanover Area Historical Society.<br />\nFor more information please visit their website at www.hahs.us
LOCATION:Marine Corps Museum\, Quantico\, VA.
UID:e.1500.1061
SEQUENCE:3
DTSTAMP:20260422T145959Z
URL:https://business.hanoverchamber.com/events/details/marine-corps-museum-04-03-2016-1061
END:VEVENT

END:VCALENDAR
