BEGIN:VCALENDAR
VERSION:2.0
PRODID:-//ChamberMaster//Event Calendar 2.0//EN
METHOD:PUBLISH
X-PUBLISHED-TTL:P3D
REFRESH-INTERVAL:P3D
CALSCALE:GREGORIAN
BEGIN:VEVENT
DTSTART:20161007T120000Z
DTEND:20161008T013000Z
X-MICROSOFT-CDO-ALLDAYEVENT:FALSE
SUMMARY:Manufacturing Day Roundtable
DESCRIPTION:Manufacturing Day is a celebration of modern manufacturing meant to inspire the next generation of manufacturers. Learn More\n\n \n\nOn Friday\, October 7\, 2016\, join local partners in education\, manufacturing and business at Ox Industries to recognize the significance of manufacturing to our local economy and celebrate the strong business and education partnerships that have forged in our community. \n\n \n\nThe event is a collaborative effort of the Hanover Area Chamber of Commerce\, York County Economic Alliance\, The Manufacturer's Association of South Central PA and MANTEC.\n\n \n\nA brief program with keynote remarks will be followed by a tour of the facility. Please RSVP with your availability by Monday\, October 3 by following the link\, below.
X-ALT-DESC;FMTTYPE=text/html:<span style="color:#555555\;"><span style="font-family:arial\,sans-serif\;">Manufacturing Day is a celebration of modern manufacturing meant to inspire the next generation of manufacturers. <a href="http://r20.rs6.net/tn.jsp?f=0013Sohih1LxSZdsw4u_d9TsrK7R2V6yS63wKNjJnvjhHpB4aufR2frOqlBSku4XxAbJCXqTyWLxjezSVANRqDEsnNCy2H2VSPrA1u8KfS9vAjAOxXoLVKEc935l2BSncC8XYOcc3A8IJuctXjwNEuiVR7bOXMlUrMY-hwOlaDiljc=&amp\;c=ab_nceBq-FuHn8gu_G9DWjyvatMGU4fPaaeskLMUxvt-xbKXgE-xOg==&amp\;ch=5gtPXlHG1JHzLr7u_f0ex-Gv0v0E8-bcAwzuIu7wwcoJ17UxkkwVhw==" target="_blank"><strong><span style="text-decoration:none\;text-underline:none\;"><span style="color:#EE5624\;">Learn More</span></span></strong></a></span></span><br />\n&nbsp\;<br />\n<span style="color:#555555\;"><span style="font-family:arial\,sans-serif\;">On </span></span><strong><span style="color:#FF6600\;"><span style="font-family:arial\,sans-serif\;">Friday\, October 7\, 2016</span></span></strong><span style="color:#555555\;"><span style="font-family:arial\,sans-serif\;">\, join local partners in education\, manufacturing and business at </span></span><strong><span style="color:#FF6600\;"><span style="font-family:arial\,sans-serif\;">Ox Industries</span></span></strong><span style="color:#555555\;"><span style="font-family:arial\,sans-serif\;"> to recognize the significance of manufacturing to our local economy and celebrate the strong business and education partnerships that have forged in our community.&nbsp\;</span></span><br />\n&nbsp\;<br />\n<span style="color:#555555\;"><span style="font-family:arial\,sans-serif\;">The event is a collaborative effort of the Hanover Area Chamber of Commerce\, York County Economic Alliance\, The Manufacturer&#39\;s Association of South Central PA and MANTEC.</span></span><br />\n&nbsp\;<br />\n<span style="color:#555555\;"><span style="font-family:arial\,sans-serif\;"><span style="font-size:12.0pt\;">A brief program with keynote remarks will be followed by a tour of the facility. Please RSVP with your availability by Monday\, October 3 by following the link\, below.&nbsp\;</span></span></span>
LOCATION:Ox Industries 600 W. Elm Ave.\, Hanover
UID:e.1500.2258
SEQUENCE:3
DTSTAMP:20260422T055356Z
URL:https://business.hanoverchamber.com/events/details/manufacturing-day-roundtable-2258
END:VEVENT

END:VCALENDAR
