BEGIN:VCALENDAR
VERSION:2.0
PRODID:-//ChamberMaster//Event Calendar 2.0//EN
METHOD:PUBLISH
X-PUBLISHED-TTL:P3D
REFRESH-INTERVAL:P3D
CALSCALE:GREGORIAN
BEGIN:VEVENT
DTSTART:20150913T190000Z
DTEND:20150913T220000Z
X-MICROSOFT-CDO-ALLDAYEVENT:FALSE
SUMMARY:Littlestown Area Municipal Band Concert
DESCRIPTION:St. Paul's Lutheran Church\n\ncelebrating 125 years of serving the lord
X-ALT-DESC;FMTTYPE=text/html:<p align="LEFT"><i><font face="BoogieWoogieHmk" size="6"><font face="BoogieWoogieHmk" size="6">St. Paul&rsquo\;s Lutheran Church</font></font></i></p>\n\n<p><i><font color="#ff0000" face="BoogieWoogieHmk" size="6"><font color="#ff0000" face="BoogieWoogieHmk" size="6"><font color="#ff0000" face="BoogieWoogieHmk" size="6">celebrating 125 years of serving the lord</font></font></font></i></p>\n
LOCATION:127 York Street Hanover\, PA 17331 Parking is in the rear of the church on Middle Street
UID:e.1500.957
SEQUENCE:3
DTSTAMP:20260423T024434Z
URL:https://business.hanoverchamber.com/events/details/littlestown-area-municipal-band-concert-09-13-2015-957
END:VEVENT

END:VCALENDAR
