BEGIN:VCALENDAR
VERSION:2.0
PRODID:-//ChamberMaster//Event Calendar 2.0//EN
METHOD:PUBLISH
X-PUBLISHED-TTL:P3D
REFRESH-INTERVAL:P3D
CALSCALE:GREGORIAN
BEGIN:VEVENT
DTSTART;VALUE=DATE:20170530
DTEND;VALUE=DATE:20170531
TRANSP:TRANSPARENT
X-MICROSOFT-CDO-ALLDAYEVENT:TRUE
SUMMARY:Light in the Landscape: Paintings by Sharon Benner
DESCRIPTION:Sharon Benner\, an oil and pastel painter\, will exhibit a variety of paintings at Art Downtown\, 32 Carlisle St.\, Hanover. Stop and see the paintings\, many of them created at Codorus State Park or in other local surroundings. Sharon is a plein air painter\, often taking her paints and canvas and going on location\; you may recognize her paintings. She calls herself a "colorist\," loving the play of light and dark in artwork.\n\nSharon\, a Hanover resident\, will be on hand during downtown Hanover's Sip and Stroll June 3 to talk with artlovers\, 2-7 p.m.\n\nHer paintings can be seen during regular gallery hours\, 10 a.m.-5 p.m. Tuesday-Thursday\, 10 a.m.-7 p.m. Friday\, and 10 a.m.-3 p.m. Saturday. The gallery is always free and open to the public.
X-ALT-DESC;FMTTYPE=text/html:Sharon Benner\, an oil and pastel painter\, will exhibit a variety of paintings at Art Downtown\, 32 Carlisle St.\, Hanover. Stop and see the paintings\, many of them created at Codorus State Park or in other local surroundings. Sharon is a plein air painter\, often taking her paints and canvas and going on location\; you may recognize her paintings. She calls herself a &quot\;colorist\,&quot\; loving the play of light and dark in artwork.<br />\nSharon\, a Hanover resident\, will be on hand during downtown Hanover&#39\;s Sip and Stroll June 3 to talk with artlovers\, 2-7 p.m.<br />\nHer paintings can be seen during regular gallery hours\, 10 a.m.-5 p.m. Tuesday-Thursday\, 10 a.m.-7 p.m. Friday\, and 10 a.m.-3 p.m. Saturday. The gallery is always free and open to the public.
LOCATION:Art Downtown is the gallery of the Hanover Area Arts Guild. It is located at 32 Carlisle St.\, just steps off the Square in historic Hanover.
UID:e.1500.2935
SEQUENCE:3
DTSTAMP:20260421T190854Z
URL:https://business.hanoverchamber.com/events/details/light-in-the-landscape-paintings-by-sharon-benner-2935
END:VEVENT

END:VCALENDAR
