BEGIN:VCALENDAR
VERSION:2.0
PRODID:-//ChamberMaster//Event Calendar 2.0//EN
METHOD:PUBLISH
X-PUBLISHED-TTL:P3D
REFRESH-INTERVAL:P3D
CALSCALE:GREGORIAN
BEGIN:VEVENT
DTSTART:20171103T113000Z
DTEND:20171103T130000Z
X-MICROSOFT-CDO-ALLDAYEVENT:FALSE
SUMMARY:Legislative Roundtable 11/3/2017
DESCRIPTION:Meet with local legislators at this Roundtable\n\n\n\nSponsored by Hanover Hospital & The Glatfelter Agency
X-ALT-DESC;FMTTYPE=text/html:Meet with local legislators at this Roundtable<br />\n<br />\n<em style="color: rgb(0\, 0\, 128)\;"><strong>Sponsored by Hanover Hospital &amp\; The Glatfelter Agency</strong></em>
LOCATION:Dutch Country Restaurant 946 Baltimore St.\, Hanover
UID:e.1500.1226
SEQUENCE:3
DTSTAMP:20260421T105348Z
URL:https://business.hanoverchamber.com/events/details/legislative-roundtable-11-3-2017-1226
END:VEVENT

END:VCALENDAR
