BEGIN:VCALENDAR
VERSION:2.0
PRODID:-//ChamberMaster//Event Calendar 2.0//EN
METHOD:PUBLISH
X-PUBLISHED-TTL:P3D
REFRESH-INTERVAL:P3D
CALSCALE:GREGORIAN
BEGIN:VEVENT
DTSTART:20170419T220000Z
DTEND:20170420T000000Z
X-MICROSOFT-CDO-ALLDAYEVENT:FALSE
SUMMARY:Ladies Night at Bourbon Bar & Grill
DESCRIPTION:Join us for our monthly Ladies Night here at Bourbon Bar & Grill (Downstairs in our Banquet Hall) on the third Wednesday of every month from 6P-8P. We will have a featured winery each month here doing a wine tasting & appetizers\, along with consultants from Lularoe\, Tastefully Simple\, It Works\, Pampered Chef\, Paparazzi\, Pure Romance & Jamberry and more! Only $5 at the door for Ladies. Dont worry\, we didn't forget about those special men in your lives\, have them come along and enjoy 49 cent wings & a nice cold beer upstairs while you shop and mingle with the girls.
X-ALT-DESC;FMTTYPE=text/html:<p><span style="color:rgb(75\, 79\, 86)\; font-family:helvetica neue\,helvetica\,arial\,sans-serif\; font-size:14px">Join us for our monthly Ladies Night here at Bourbon Bar &amp\; Grill (Downstairs in our Banquet Hall) on the third Wednesday of every month from </span><span style="color:rgb(75\, 79\, 86)\; font-family:helvetica neue\,helvetica\,arial\,sans-serif\; font-size:14px">6P-8</span><span style="color:rgb(75\, 79\, 86)\; font-family:helvetica neue\,helvetica\,arial\,sans-serif\; font-size:14px">P</span><span style="color:rgb(75\, 79\, 86)\; font-family:helvetica neue\,helvetica\,arial\,sans-serif\; font-size:14px">. We will have a featured winery each month here doing a wine tasting &amp\; appetizers\, along with consultants from Lularoe\, Tastefully Simple\, It Works\, Pampered Chef\, Paparazzi\, Pure Romance &amp\; Jamberry and more! Only $5 at the door for Ladies. Dont worry\, we didn&#39\;t forget about those special men in your lives\, have them come along and enjoy 49 cent wings &amp\; a nice cold beer upstairs while you shop and mingle with the girls.&nbsp\;</span></p>\n
LOCATION:
UID:e.1500.2464
SEQUENCE:3
DTSTAMP:20260421T203617Z
URL:https://business.hanoverchamber.com/events/details/ladies-night-at-bourbon-bar-grill-04-19-2017-2464
END:VEVENT

END:VCALENDAR
