BEGIN:VCALENDAR
VERSION:2.0
PRODID:-//ChamberMaster//Event Calendar 2.0//EN
METHOD:PUBLISH
X-PUBLISHED-TTL:P3D
REFRESH-INTERVAL:P3D
CALSCALE:GREGORIAN
BEGIN:VEVENT
DTSTART:20160609T120000Z
DTEND:20160609T160000Z
X-MICROSOFT-CDO-ALLDAYEVENT:FALSE
SUMMARY:Keystone Energy Forum
DESCRIPTION:MANTEC\, The Manufacturers' Association\, the Hanover Area Chamber of Commerce and the York County Economic Alliance\, in partnership with Keystone Energy Forum presents The Keystone Energy Forum: "How Has the Manufacturing Industry in York County Benefited from the Natural Gas Industry?"\n\n\n\nPanelists will include representatives from UGI Energy Services\, Glatfelter\, and KCF Technologies. \n\n\n\nThe forum is at NO cost\; seating is limited.  Pre-registration is required!\n\nTo register\, please RSVP by June 3 at http://yorkkeystoneenergyforum.eventbrite.com or call (717) 843-3891\n\n\n\nView flyer and additional information by clicking here!
X-ALT-DESC;FMTTYPE=text/html:MANTEC\, The Manufacturers&#39\; Association\, the Hanover Area Chamber of Commerce and the York County Economic Alliance\, in partnership with Keystone Energy Forum presents <a href="http://hanoverchamber.com/wp-content/uploads/2016/05/KEF-June-9-Promo-Flyer-5-12-16.pdf">The Keystone Energy Forum: &quot\;How Has the Manufacturing Industry in York County Benefited from the Natural Gas Industry?&quot\;</a><br />\n<br />\nPanelists will include representatives from UGI Energy Services\, Glatfelter\, and KCF Technologies.&nbsp\;<br />\n<br />\nThe forum is at NO cost\; seating is limited. &nbsp\;Pre-registration is required!<br />\nTo register\, please RSVP by June 3 at&nbsp\;http://yorkkeystoneenergyforum.eventbrite.com or call (717) 843-3891<br />\n<br />\nV<a href="http://hanoverchamber.com/wp-content/uploads/2016/05/KEF-June-9-Promo-Flyer-5-12-16.pdf">iew flyer and additional information by clicking here!</a>
LOCATION:Homewood Suites by Hilton 200 Masonic Drive York\, PA
UID:e.1500.1116
SEQUENCE:3
DTSTAMP:20260422T114451Z
URL:https://business.hanoverchamber.com/events/details/keystone-energy-forum-06-09-2016-1116
END:VEVENT

END:VCALENDAR
