BEGIN:VCALENDAR
VERSION:2.0
PRODID:-//ChamberMaster//Event Calendar 2.0//EN
METHOD:PUBLISH
X-PUBLISHED-TTL:P3D
REFRESH-INTERVAL:P3D
CALSCALE:GREGORIAN
BEGIN:VEVENT
DTSTART:20160329T130000Z
DTEND:20160329T150000Z
X-MICROSOFT-CDO-ALLDAYEVENT:FALSE
SUMMARY:Kate Klunk: Join Me for a Fraud Prevention Seminar
DESCRIPTION:Pennsylvania has the third highest percentage of elderly residents in the United States with nearly 2 million residents over the age of 65. Scam artists will seek out such populations with the hope that many of them will be unaware of their methods. Join Rep. Kristin Phillips-Hill and I for a Fraud Prevention Seminar and learn how to avoid becoming a victim of one of these scams\, as well as how to properly report them to the authorities. York County Assistant District Attorney Dave Sunday will present information about the top 10 scams targeting seniors.
X-ALT-DESC;FMTTYPE=text/html:<span style="font-family:times new roman\,serif\;"><span style="font-size:12.0pt\;">Pennsylvania has the third highest percentage of elderly residents in the United States with nearly 2 million residents over the age of 65. Scam artists will seek out such populations with the hope that many of them will be unaware of their methods. Join Rep. Kristin Phillips-Hill and I for a Fraud Prevention Seminar and learn how to avoid becoming a victim of one of these scams\, as well as how to properly report them to the authorities. York County Assistant District Attorney Dave Sunday will present information about the top 10 scams targeting seniors.</span></span><br />\n&nbsp\;
LOCATION:New Freedom Senior Center: 150 E. Main St.\, New Freedom
UID:e.1500.1074
SEQUENCE:3
DTSTAMP:20260422T175752Z
URL:https://business.hanoverchamber.com/events/details/kate-klunk-join-me-for-a-fraud-prevention-seminar-03-29-2016-1074
END:VEVENT

END:VCALENDAR
