BEGIN:VCALENDAR
VERSION:2.0
PRODID:-//ChamberMaster//Event Calendar 2.0//EN
METHOD:PUBLISH
X-PUBLISHED-TTL:P3D
REFRESH-INTERVAL:P3D
CALSCALE:GREGORIAN
BEGIN:VEVENT
DTSTART;VALUE=DATE:20170704
DTEND;VALUE=DATE:20170705
TRANSP:TRANSPARENT
X-MICROSOFT-CDO-ALLDAYEVENT:TRUE
SUMMARY:July 4th Hanover Fireworks!
DESCRIPTION:The Hanover area annual 4th of July Fireworks Celebration will be held on Tuesday July 4th 2017. The fireworks show is scheduled to begin at 9:30 PM. The rain date for the show is Wednesday July 5th at 9:30 PM. Through a cooperative effort between the Borough of Hanover\, Conewago-North Ridge Partners\, and the surrounding businesses\, the fireworks will be launched off of Wilson Avenue behind Lowes and Sonic Drive-in. The Borough of Hanover and the Hanover Fire Department urge all attendees to support the businesses in the surrounding shopping district that evening
X-ALT-DESC;FMTTYPE=text/html:The Hanover area annual 4th of July Fireworks Celebration will be held on Tuesday July 4th 2017. The fireworks show is scheduled to begin at 9:30 PM. The rain date for the show is Wednesday July 5th at 9:30 PM. Through a cooperative effort between the Borough of Hanover\, Conewago-North Ridge Partners\, and the surrounding businesses\, the fireworks will be launched off of Wilson Avenue behind Lowes and Sonic Drive-in. The Borough of Hanover and the Hanover Fire Department urge all attendees to support the businesses in the surrounding shopping district that evening
LOCATION:The fireworks will be launched off of Wilson Avenue behind Lowes and Sonic Drive-in.
UID:e.1500.2987
SEQUENCE:3
DTSTAMP:20260421T152902Z
URL:https://business.hanoverchamber.com/events/details/july-4th-hanover-fireworks-2987
END:VEVENT

END:VCALENDAR
