BEGIN:VCALENDAR
VERSION:2.0
PRODID:-//ChamberMaster//Event Calendar 2.0//EN
METHOD:PUBLISH
X-PUBLISHED-TTL:P3D
REFRESH-INTERVAL:P3D
CALSCALE:GREGORIAN
BEGIN:VEVENT
DTSTART:20160611T130000Z
DTEND:20160611T170000Z
X-MICROSOFT-CDO-ALLDAYEVENT:FALSE
SUMMARY:Job Fair
DESCRIPTION:Ring Container is a leading manufacturer of plastic containers\n\nfor food and other packaged products and it's our people that\n\nenable us to grow. We offer competitive compensation based\n\non experience\, a stable work environment\, complete benefits\n\npackage\, and ongoing training for the right individual.\n\nApply in person at 351 Church Street\, Hanover\, PA 17331\n\nOpenings for the following positions:\n\nMachine Operators-\n\n2nd/3rd Shift Experience preferred\n\nForklift Drivers-2nd/3rd\n\nMaintenance Techs-2nd/3rd Strong electrical\,\n\nfluid power experience preferred\n\nOur facility is growing! Looking for individuals who are\n\nlooking for long term employment and want to grow with us.\n\nExceptional attendance. Clean working environment\, team\n\nplayers.\n\nIf unable to attend please send resume to hanover@ringcontainer.com
X-ALT-DESC;FMTTYPE=text/html:Ring Container is a leading manufacturer of plastic containers<br />\nfor food and other packaged products and it&rsquo\;s our people that<br />\nenable us to grow. We offer competitive compensation based<br />\non experience\, a stable work environment\, complete benefits<br />\npackage\, and ongoing training for the right individual.<br />\nApply in person at 351 Church Street\, Hanover\, PA 17331<br />\nOpenings for the following positions:<br />\nMachine Operators-<br />\n2nd/3rd Shift Experience preferred<br />\nForklift Drivers-2nd/3rd<br />\nMaintenance Techs-2nd/3rd Strong electrical\,<br />\nfluid power experience preferred<br />\nOur facility is growing! Looking for individuals who are<br />\nlooking for long term employment and want to grow with us.<br />\nExceptional attendance. Clean working environment\, team<br />\nplayers.<br />\nIf unable to attend please send resume to&nbsp\;hanover@ringcontainer.com
LOCATION:
UID:e.1500.1134
SEQUENCE:3
DTSTAMP:20260422T114421Z
URL:https://business.hanoverchamber.com/events/details/job-fair-06-11-2016-1134
END:VEVENT

END:VCALENDAR
