BEGIN:VCALENDAR
VERSION:2.0
PRODID:-//ChamberMaster//Event Calendar 2.0//EN
METHOD:PUBLISH
X-PUBLISHED-TTL:P3D
REFRESH-INTERVAL:P3D
CALSCALE:GREGORIAN
BEGIN:VEVENT
DTSTART:20160409T230000Z
DTEND:20160410T020000Z
X-MICROSOFT-CDO-ALLDAYEVENT:FALSE
SUMMARY:Jekyll & Hyde
DESCRIPTION:The award-winning drama program at Hanover High School will bring the Gothic thriller Jekyll & Hyde to the stage for its spring musical. The show is sponsored by OX Paper Tube & Core\, Inc. and Jim?s Steaks South Street. Jekyll & Hyde features music by Frank Wildhorn\, lyrics by Wildhorn\, Leslie Bricusse and Steve Cuden and book by Leslie Bricusse.
X-ALT-DESC;FMTTYPE=text/html:The award-winning drama program at Hanover High School will bring the Gothic thriller Jekyll &amp\; Hyde to the stage for its spring musical. The show is sponsored by OX Paper Tube &amp\; Core\, Inc. and Jim?s Steaks South Street. Jekyll &amp\; Hyde features music by Frank Wildhorn\, lyrics by Wildhorn\, Leslie Bricusse and Steve Cuden and book by Leslie Bricusse.
LOCATION:Hanover High School
UID:e.1500.1096
SEQUENCE:3
DTSTAMP:20260422T145711Z
URL:https://business.hanoverchamber.com/events/details/jekyll-hyde-04-09-2016-1096
END:VEVENT

END:VCALENDAR
