BEGIN:VCALENDAR
VERSION:2.0
PRODID:-//ChamberMaster//Event Calendar 2.0//EN
METHOD:PUBLISH
X-PUBLISHED-TTL:P3D
REFRESH-INTERVAL:P3D
CALSCALE:GREGORIAN
BEGIN:VEVENT
DTSTART;VALUE=DATE:20160129
DTEND;VALUE=DATE:20160201
TRANSP:TRANSPARENT
X-MICROSOFT-CDO-ALLDAYEVENT:TRUE
SUMMARY:HOME AND GARDEN SHOW TO HELP FORSIGHT VISION GROW
DESCRIPTION:The York Builders Association is teaming up with ForSight Vision and Hively Landscapes to raise funds for the non-profit organization during the York Builders Association's Home and Garden Show at the Utz Arena\, York Expo Center on Friday through Sunday\, January 29\, 30\, and 31.\n\nContractors will design and construct eight garden potting benches to be displayed among the exhibits at the Home and Garden Show.  Visitors to the show can purchase raffle tickets and then place the tickets in a ballot box atop any one of the eight benches.  The winning tickets for each bench will be drawn on Sunday\, January 31.\n\nConstructing the potting benches are:\n\nTed Ventre of Hively Landscapes\; Barry Strine of Strine's Heating & Air Conditioning\; Leo Deller in partnership with John H. Myers\, & Son\; students at York County School of Technology (building two potting benches)\; Phil Trump of Trump Lawn & Landscaping\; Paul Deller of Red Oak Remodeling\; and George Deller of Jensco Construction.\n\nThe high quality benches will be attractive additions to any garden or patio area.  All proceeds from the ticket sales will go to ForSight Vision and their programs to serve children and adults with vision impairments\, including pre-school vision testing and employment for the blind.\n\nMore than 200 exhibitors at the Home and Garden Show will have displays to beautify the exterior and interiors of homes.\n\nA special Kids' Zone will feature Lego building and face painting\, among other activities.\n\nThe Potting Bench Raffle is being sponsored by Hively Landscapes.\n\nThe Home and Garden Show hours are:  Friday\, 1 p.m. to 9 p.m.\; Saturday\, 10 a.m. to 8 p.m.\; and Sunday\, 11 a.m. to 4 p.m.  Admission price is $8 for adults.  Children and teenagers under 18-year-old are admitted free.  Admission tickets can be used to attend two days of the show.
X-ALT-DESC;FMTTYPE=text/html:<strong><span style="font-family:arial\,sans-serif\;"><span style="font-size:12.0pt\;">The York Builders Association is teaming up with ForSight Vision and Hively Landscapes to raise funds for the non-profit organization during the York Builders Association&rsquo\;s Home and Garden Show at the Utz Arena\, York Expo Center on Friday through Sunday\, January 29\, 30\, and 31.</span></span></strong><br />\n<strong><span style="font-family:arial\,sans-serif\;"><span style="font-size:12.0pt\;">Contractors will design and construct eight garden potting benches to be displayed among the exhibits at the Home and Garden Show.&nbsp\; Visitors to the show can purchase raffle tickets and then place the tickets in a ballot box atop any one of the eight benches.&nbsp\; The winning tickets for each bench will be drawn on Sunday\, January 31.</span></span></strong><br />\n<strong><span style="font-family:arial\,sans-serif\;"><span style="font-size:12.0pt\;">Constructing the potting benches are:</span></span></strong><br />\n<strong><span style="color:black\;"><span style="font-family:arial\,sans-serif\;"><span style="font-size:12.0pt\;">Ted Ventre of Hively Landscapes\; Barry Strine of Strine&rsquo\;s Heating &amp\; Air Conditioning\; Leo Deller in partnership with John H. Myers\, &amp\; Son\; students at York County School of Technology (building two potting benches)\; Phil Trump of Trump Lawn &amp\; Landscaping\; Paul Deller of Red Oak Remodeling\; and George Deller of Jensco Construction.</span></span></span></strong><br />\n<strong><span style="font-family:arial\,sans-serif\;"><span style="font-size:12.0pt\;">The high quality benches will be attractive additions to any garden or patio area.&nbsp\; All proceeds from the ticket sales will go to ForSight Vision and their programs to serve children and adults with vision impairments\, including pre-school vision testing and employment for the blind.</span></span></strong><br />\n<strong><span style="font-family:arial\,sans-serif\;"><span style="font-size:12.0pt\;">More than 200 exhibitors at the Home and Garden Show will have displays to beautify the exterior and interiors of homes.</span></span></strong><br />\n<strong><span style="font-family:arial\,sans-serif\;"><span style="font-size:12.0pt\;">A special Kids&rsquo\; Zone will feature Lego building and face painting\, among other activities.</span></span></strong><br />\n<strong><span style="font-family:arial\,sans-serif\;"><span style="font-size:12.0pt\;">The Potting Bench Raffle is being sponsored by Hively Landscapes.</span></span></strong><br />\n<strong><span style="font-family:arial\,sans-serif\;"><span style="font-size:12.0pt\;">The Home and Garden Show hours are:&nbsp\; Friday\, 1 p.m. to 9 p.m.\; Saturday\, 10 a.m. to 8 p.m.\; and Sunday\, 11 a.m. to 4 p.m.&nbsp\; Admission price is $8 for adults.&nbsp\; Children and teenagers under 18-year-old are admitted free.&nbsp\; Admission tickets can be used to attend two days of the show.</span></span></strong>
LOCATION:
UID:e.1500.1039
SEQUENCE:3
DTSTAMP:20260422T192744Z
URL:https://business.hanoverchamber.com/events/details/home-and-garden-show-to-help-forsight-vision-grow-01-29-2016-1039
END:VEVENT

END:VCALENDAR
