BEGIN:VCALENDAR
VERSION:2.0
PRODID:-//ChamberMaster//Event Calendar 2.0//EN
METHOD:PUBLISH
X-PUBLISHED-TTL:P3D
REFRESH-INTERVAL:P3D
CALSCALE:GREGORIAN
BEGIN:VEVENT
DTSTART:20170506T123000Z
DTEND:20170506T150000Z
X-MICROSOFT-CDO-ALLDAYEVENT:FALSE
SUMMARY:Hoffman Homes for Youth "Run for a Reason" Family 5K Run/Walk featuring a Kiddie "Stampede"
DESCRIPTION:Join us for a family fun day on our beautiful 192-acre campus!  \n\n\n\nHave Family Fun at our Family Firstival\n\nGet to know Hoffman Homes as a family & learn more about the innovative ways we put our kids first\, and bring hope and healing to our children in care.  Activities include... \n\n	5K Family Fun Run/Walk\n	Face painting\n	Arts and crafts for kids\n	Meet our therapy pets\n	Barn tours\n	Virtual Horse Race voting\n	Music\n	Snacks & drinks\n	Pets & Stollers are welcome! (You are responsible\; please use your best judgment\, for the safety of all participants.)\n\n \n\nNew this year is our Kiddie Stampede!  Your child can dress up as his or her favorite animal and have "Dress Up'n Run" fun\, in honor of our therapeutic pets and horses!  Children ages 3-10 are invited to register and join us for age-appropriate "stampedes" by our beautiful horse therapy barn and pastures!
X-ALT-DESC;FMTTYPE=text/html:<em>Join us for a family fun day on our beautiful 192-acre campus!&nbsp\; </em><br />\n<br />\n<span style="font-size:14px"><span style="color:rgb(0\, 0\, 128)"><span style="font-family:comic sans ms"><em><strong>Have Family Fun </strong></em><strong>at our Family First<em>ival</em></strong></span></span></span><br />\nGet to know Hoffman Homes as a family &amp\; learn more about the innovative ways we put our kids first\, and bring hope and healing to our children in care. &nbsp\;Activities include...&nbsp\;\n<ul>\n	<li>5K Family Fun Run/Walk</li>\n	<li>Face painting</li>\n	<li>Arts and crafts for kids</li>\n	<li>Meet our therapy pets</li>\n	<li>Barn tours</li>\n	<li>Virtual Horse Race voting</li>\n	<li>Music</li>\n	<li>Snacks &amp\; drinks</li>\n	<li>Pets &amp\; Stollers are welcome! (You are responsible\; please use your best judgment\, for the safety of all participants.)</li>\n</ul>\n&nbsp\;<br />\n<span style="color:rgb(0\, 128\, 0)"><span style="font-family:comic sans ms"><em><span style="font-size:14px"><strong>New this year is our Kiddie Stampede!&nbsp\;</strong></span> </em></span></span>Your child can dress up as his or her favorite animal and have &ldquo\;Dress Up&rsquo\;n Run&rdquo\; fun\, in honor of our therapeutic pets and horses!&nbsp\; Children ages 3-10 are invited to register and join us for age-appropriate &ldquo\;stampedes&rdquo\; by our beautiful horse therapy barn and pastures!
LOCATION:Hoffman Homes for Youth 815 Orphanage Road Littlestown\, PA 17340
UID:e.1500.2323
SEQUENCE:3
DTSTAMP:20260421T204228Z
URL:https://business.hanoverchamber.com/events/details/hoffman-homes-for-youth-run-for-a-reason-family-5k-run-walk-featuring-a-kiddie-stampede-2323
END:VEVENT

END:VCALENDAR
