BEGIN:VCALENDAR
VERSION:2.0
PRODID:-//ChamberMaster//Event Calendar 2.0//EN
METHOD:PUBLISH
X-PUBLISHED-TTL:P3D
REFRESH-INTERVAL:P3D
CALSCALE:GREGORIAN
BEGIN:VEVENT
DTSTART:20170617T140000Z
DTEND:20170617T210000Z
X-MICROSOFT-CDO-ALLDAYEVENT:FALSE
SUMMARY:Hoffman Homes for Youth Charity Motorcycle Ride
DESCRIPTION:Join us for our first ever Charity Motorcycle Ride to benefit our children in need!  This event will begin and end at Battlefield Harley-Davidson in Gettysburg\, PA.  Registration begins at 8:00 am\, and kickstands up at 10:00 am.  Enjoy a peaceful bike ride throughout our surrounding communities\, led by our good friends from A.B.A.T.E. Mason Dixon Chapter and the God Bless America Color Guard with a stop at Hoffman Homes for Youth campus for light refreshments.  Then head back to Battlefield Harley-Davidson for food\, live music provided by Jalopy Deluxe\, and small games of chance!
X-ALT-DESC;FMTTYPE=text/html:Join us for our first ever Charity Motorcycle Ride to benefit our children in need!&nbsp\; This event will begin and end at Battlefield Harley-Davidson in Gettysburg\, PA.&nbsp\; Registration begins at 8:00 am\, and kickstands up at 10:00 am.&nbsp\; Enjoy a peaceful bike ride throughout our surrounding communities\, led by our good friends from A.B.A.T.E. Mason Dixon Chapter&nbsp\;and the God Bless America Color Guard with a stop at Hoffman Homes for Youth campus for light refreshments.&nbsp\; Then head back to Battlefield Harley-Davidson for food\, live music provided by Jalopy Deluxe\, and small games of chance!
LOCATION:Battlefield Harley-Davidson 21 Cavalry Field Road Gettysburg\, PA 17325
UID:e.1500.2480
SEQUENCE:3
DTSTAMP:20260421T172627Z
URL:https://business.hanoverchamber.com/events/details/hoffman-homes-for-youth-charity-bike-ride-2480
END:VEVENT

END:VCALENDAR
