BEGIN:VCALENDAR
VERSION:2.0
PRODID:-//ChamberMaster//Event Calendar 2.0//EN
METHOD:PUBLISH
X-PUBLISHED-TTL:P3D
REFRESH-INTERVAL:P3D
CALSCALE:GREGORIAN
BEGIN:VEVENT
DTSTART:20171103T223000Z
DTEND:20171104T023000Z
X-MICROSOFT-CDO-ALLDAYEVENT:FALSE
SUMMARY:Hoffman Homes for Youth 14th Annual "A Night in Paradise" Gala Fundraiser
DESCRIPTION:Come join us and spend "A Night In Paradise" to support our mission to provide brighter futures for children in need! Our annual gala fundraiser is one of our largest fundraisers consisting of a seated dinner\, live entertainment\, and a live and silent auction.  This year\, guests will enjoy a tropical themed evening and will have the opportunity to help us raise funds to benefit programs and services that directly impact the care\, therapeutic programming\, and living/school experiences of our children in care.  We hope you will join us!
X-ALT-DESC;FMTTYPE=text/html:<span style="font-family:georgia"><span style="font-size:10.0pt">Come join us and spend &quot\;A Night In Paradise&quot\; to support our mission to provide brighter futures for children in need! Our annual gala fundraiser is one of our largest fundraisers consisting of a seated dinner\, live entertainment\, and a live and silent auction. &nbsp\;This year\, guests will enjoy a tropical themed evening and will have the opportunity to help us raise funds to benefit programs and services that directly impact the care\, therapeutic programming\, and living/school experiences of our children in care. &nbsp\;We hope you will join us!</span></span><br />\n&nbsp\;
LOCATION:Hanover Country Club 200 E. Water Street Abbottstown\, PA 17301
UID:e.1500.3070
SEQUENCE:3
DTSTAMP:20260421T093321Z
URL:https://business.hanoverchamber.com/events/details/hoffman-homes-for-youth-14th-annual-a-night-in-paradise-gala-fundraiser-3070
END:VEVENT

END:VCALENDAR
