BEGIN:VCALENDAR
VERSION:2.0
PRODID:-//ChamberMaster//Event Calendar 2.0//EN
METHOD:PUBLISH
X-PUBLISHED-TTL:P3D
REFRESH-INTERVAL:P3D
CALSCALE:GREGORIAN
BEGIN:VEVENT
DTSTART:20170119T220000Z
DTEND:20170120T000000Z
X-MICROSOFT-CDO-ALLDAYEVENT:FALSE
SUMMARY:HAYP- January Happy Hour
DESCRIPTION:Join us for a Happy Hour and network with other young professionals in the area! This event is free for members and non-members\; guests are responsible for their own food and drinks.
X-ALT-DESC;FMTTYPE=text/html:<div class="boxOuterContainer boxViewOutline boxesListItem">\n<div class="boxContainer">\n<div class="d1">\n<div class="d2">\n<div class="d3">\n<div class="d4">\n<div class="d5">\n<div class="d6">\n<div class="d7">\n<div class="d8">\n<div class="d9">\n<div class="inner">\n<div class="boxBodyOuterContainer">\n<div class="boxBodyContainer">\n<div class="d1">\n<div class="d2">\n<div class="d3">\n<div class="d4">\n<div class="d5">\n<div class="d6">\n<div class="d7">\n<div class="d8">\n<div class="d9">\n<div class="inner">\n<div class="boxBodyContentOuterContainer">\n<div class="boxBodyContentContainer fixedHeight">\n<div class="d1">\n<div class="d2">\n<div class="d3">\n<div class="d4">\n<div class="d5">\n<div class="d6">\n<div class="d7">\n<div class="d8">\n<div class="d9">\n<div class="inner gadgetEventEditableArea">\n<p>Join us for a Happy Hour and network with other young professionals in the area! This event is free for members and non-members\; guests are responsible for their own food and drinks.</p>\n</div>\n</div>\n</div>\n</div>\n</div>\n</div>\n</div>\n</div>\n</div>\n</div>\n</div>\n</div>\n</div>\n</div>\n</div>\n</div>\n</div>\n</div>\n</div>\n</div>\n</div>\n</div>\n</div>\n</div>\n</div>\n</div>\n</div>\n</div>\n</div>\n</div>\n</div>\n</div>\n</div>\n</div>\n</div>\n</div>\n
LOCATION:TBD
UID:e.1500.1243
SEQUENCE:3
DTSTAMP:20260422T010122Z
URL:https://business.hanoverchamber.com/events/details/hayp-january-happy-hour-1243
END:VEVENT

END:VCALENDAR
