BEGIN:VCALENDAR
VERSION:2.0
PRODID:-//ChamberMaster//Event Calendar 2.0//EN
METHOD:PUBLISH
X-PUBLISHED-TTL:P3D
REFRESH-INTERVAL:P3D
CALSCALE:GREGORIAN
BEGIN:VEVENT
DTSTART:20180517T213000Z
DTEND:20180517T230000Z
X-MICROSOFT-CDO-ALLDAYEVENT:FALSE
SUMMARY:HAYP - Happy Hour
DESCRIPTION:Join us for a Happy Hour and network with other young professionals in the area! This event is free for members and non-members\; guests are responsible for their own food and drinks.
X-ALT-DESC;FMTTYPE=text/html:Join us for a Happy Hour and network with other young professionals in the area! This event is free for members and non-members\; guests are responsible for their own food and drinks.&nbsp\;
LOCATION:Something Wicked Brewing 34 Broadway\, Hanover\, PA 17325
UID:e.1500.4177
SEQUENCE:3
DTSTAMP:20260420T232910Z
URL:https://business.hanoverchamber.com/events/details/hayp-happy-hour-4177
END:VEVENT

END:VCALENDAR
