BEGIN:VCALENDAR
VERSION:2.0
PRODID:-//ChamberMaster//Event Calendar 2.0//EN
METHOD:PUBLISH
X-PUBLISHED-TTL:P3D
REFRESH-INTERVAL:P3D
CALSCALE:GREGORIAN
BEGIN:VEVENT
DTSTART;VALUE=DATE:20160615
DTEND;VALUE=DATE:20160616
TRANSP:TRANSPARENT
X-MICROSOFT-CDO-ALLDAYEVENT:TRUE
SUMMARY:Hans Herr House Bus Trip
DESCRIPTION:Bus Trip Sponsored by the Hanover Area Historical Society.\n\nFor more information please visit their website at www.hahs.us
X-ALT-DESC;FMTTYPE=text/html:<span style="line-height: 20.8px\;">Bus Trip Sponsored by the Hanover Area Historical Society.</span><br style="line-height: 20.8px\;" />\n<span style="line-height: 20.8px\;">For more information please visit their website at www.hahs.us</span>
LOCATION:Hans Herr House\, Lancaster Longhouse & Rockford Plantation
UID:e.1500.1063
SEQUENCE:3
DTSTAMP:20260422T114723Z
URL:https://business.hanoverchamber.com/events/details/hans-herr-house-bus-trip-06-15-2016-1063
END:VEVENT

END:VCALENDAR
