BEGIN:VCALENDAR
VERSION:2.0
PRODID:-//ChamberMaster//Event Calendar 2.0//EN
METHOD:PUBLISH
X-PUBLISHED-TTL:P3D
REFRESH-INTERVAL:P3D
CALSCALE:GREGORIAN
BEGIN:VEVENT
DTSTART:20171001T120000Z
DTEND:20171001T153000Z
X-MICROSOFT-CDO-ALLDAYEVENT:FALSE
SUMMARY:Hanover YMCA Half Marathon
DESCRIPTION:Hanover YMCA Half Marathon will benefit the LIVESTRONG at the YMCA program that supports cancer survivors in regaining their physical\, emotional and spiritual strength.\nAge Divisions:\n\nMale & Female 19 & Under\, 20-29\, 30-39\, 40-49\, 50-59\, 60 & Over\n\nAwards:\n\nMale and Female Age Division 1st\, 2nd\, 3rd place finishers.\n\nAll runners will receive a finisher medal.
X-ALT-DESC;FMTTYPE=text/html:Hanover YMCA Half Marathon will benefit the LIVESTRONG at the YMCA program that supports cancer survivors in regaining their physical\, emotional and spiritual strength.\n<p>Age Divisions:<br />\nMale &amp\; Female 19 &amp\; Under\, 20-29\, 30-39\, 40-49\, 50-59\, 60 &amp\; Over<br />\nAwards:<br />\nMale and Female Age Division 1st\, 2nd\, 3rd place finishers.</p>\n\n<p>All runners will receive a finisher medal.</p>\n
LOCATION:Hanover Area YMCA 500 George St. Hanover\, PA 17331
UID:e.1500.3075
SEQUENCE:3
DTSTAMP:20260421T121317Z
URL:https://business.hanoverchamber.com/events/details/hanover-ymca-half-marathon-3075
END:VEVENT

END:VCALENDAR
