BEGIN:VCALENDAR
VERSION:2.0
PRODID:-//ChamberMaster//Event Calendar 2.0//EN
METHOD:PUBLISH
X-PUBLISHED-TTL:P3D
REFRESH-INTERVAL:P3D
CALSCALE:GREGORIAN
BEGIN:VEVENT
DTSTART:20180629T200000Z
DTEND:20180629T210000Z
X-MICROSOFT-CDO-ALLDAYEVENT:FALSE
SUMMARY:Hanover Sprint - Remodeling Ribbon Cutting
DESCRIPTION:Ribbon Cutting to celebrate the remodeling of the Hanover Sprint store!
X-ALT-DESC;FMTTYPE=text/html:Ribbon Cutting to celebrate the remodeling of the Hanover Sprint store!
LOCATION:1000 Carlisle - Hanover\, PA 17331
UID:e.1500.4254
SEQUENCE:3
DTSTAMP:20260420T212543Z
URL:https://business.hanoverchamber.com/events/details/hanover-sprint-remodeling-ribbon-cutting-4254
END:VEVENT

END:VCALENDAR
