BEGIN:VCALENDAR
VERSION:2.0
PRODID:-//ChamberMaster//Event Calendar 2.0//EN
METHOD:PUBLISH
X-PUBLISHED-TTL:P3D
REFRESH-INTERVAL:P3D
CALSCALE:GREGORIAN
BEGIN:VEVENT
DTSTART:20160409T220000Z
DTEND:20160410T020000Z
X-MICROSOFT-CDO-ALLDAYEVENT:FALSE
SUMMARY:Hanover Sock Hop 2016
DESCRIPTION:Travel back in time for a taste of nostalgia at the Hanover Sock Hop!  The event is presented by Doceo Office Solutions\, and proceeds benefits the programs and initiatives of Main Street Hanover. \n\n\n\nHeld in a recently renovated downtown location\, the event will feature decade-appropriate food\, drink and most importantly\, music.  Guests are invited to dust off their letterman jacket or poodle skirt and shine up their saddle shoes and twist the night away!  Sponsorship opportunities are available.
X-ALT-DESC;FMTTYPE=text/html:Travel back in time for a taste of nostalgia at the Hanover Sock Hop! &nbsp\;The event is presented by Doceo Office Solutions\, and proceeds benefits the programs and initiatives of Main Street Hanover.&nbsp\;<br />\n<br />\nHeld in a recently renovated downtown location\, the event will feature decade-appropriate food\, drink and most importantly\, music. &nbsp\;Guests are invited to dust off their letterman jacket or poodle skirt and shine up their saddle shoes and twist the night away! &nbsp\;Sponsorship opportunities are available.&nbsp\;
LOCATION:22 Carlisle Street\, Hanover
UID:e.1500.1049
SEQUENCE:3
DTSTAMP:20260422T150036Z
URL:https://business.hanoverchamber.com/events/details/hanover-sock-hop-2016-04-09-2016-1049
END:VEVENT

END:VCALENDAR
