BEGIN:VCALENDAR
VERSION:2.0
PRODID:-//ChamberMaster//Event Calendar 2.0//EN
METHOD:PUBLISH
X-PUBLISHED-TTL:P3D
REFRESH-INTERVAL:P3D
CALSCALE:GREGORIAN
BEGIN:VEVENT
DTSTART:20170529T130000Z
DTEND:20170529T160000Z
X-MICROSOFT-CDO-ALLDAYEVENT:FALSE
SUMMARY:Hanover Memorial Day Parade
DESCRIPTION:Hanover Memorial Day Parade!
X-ALT-DESC;FMTTYPE=text/html:Hanover Memorial Day Parade!
LOCATION:
UID:e.1500.2939
SEQUENCE:3
DTSTAMP:20260421T184751Z
URL:https://business.hanoverchamber.com/events/details/hanover-memorial-day-parade-2939
END:VEVENT

END:VCALENDAR
