BEGIN:VCALENDAR
VERSION:2.0
PRODID:-//ChamberMaster//Event Calendar 2.0//EN
METHOD:PUBLISH
X-PUBLISHED-TTL:P3D
REFRESH-INTERVAL:P3D
CALSCALE:GREGORIAN
BEGIN:VEVENT
DTSTART;VALUE=DATE:20161024
DTEND;VALUE=DATE:20161025
TRANSP:TRANSPARENT
X-MICROSOFT-CDO-ALLDAYEVENT:TRUE
SUMMARY:Hanover Jaycees- Miss Hanover Pageant 2016
DESCRIPTION:
X-ALT-DESC;FMTTYPE=text/html:
LOCATION:
UID:e.1500.1100
SEQUENCE:3
DTSTAMP:20260422T074057Z
URL:https://business.hanoverchamber.com/events/details/hanover-jaycees-miss-hanover-pageant-2016-10-24-2016-1100
END:VEVENT

END:VCALENDAR
