BEGIN:VCALENDAR
VERSION:2.0
PRODID:-//ChamberMaster//Event Calendar 2.0//EN
METHOD:PUBLISH
X-PUBLISHED-TTL:P3D
REFRESH-INTERVAL:P3D
CALSCALE:GREGORIAN
BEGIN:VEVENT
DTSTART:20170406T110000Z
DTEND:20170406T190000Z
X-MICROSOFT-CDO-ALLDAYEVENT:FALSE
SUMMARY:Hanover Hospital Auxiliary Presents Book & Gift Sale
DESCRIPTION:The Hanover Hospital Auxiliary will hold a Book & Gift Sale on Thursday\, April 6\, 2017 from\n\n10 a.m.   5 p.m.\, and Friday\, April 7\, from 7 a.m.   3 p.m.  The sale will be held in Conference Rooms C & D\, located on the third floor of the hospital.\n\n \n\nYou'll find tons of books\, children's books\, cookbooks\, gifts\, toys and much\, much more   at lower than retail price!  Profits from the Book Sale directly support Hanover Hospital programs and continuing education for hospital employees.  Cash\, check and charge are accepted.\n\n \n\nFor information about the upcoming Book Sale or other Auxiliary events\, please call Anita Fordyce\, Auxiliary Secretary\, at (717) 316-2281 or fordycea@hanoverhospital.org.
X-ALT-DESC;FMTTYPE=text/html:The Hanover Hospital Auxiliary will hold a Book &amp\; Gift Sale on <strong>Thursday\, April 6\, 2017 </strong>from<br />\n<strong>10 a.m. &ndash\; 5 p.m.\, </strong>and<strong> Friday\, April 7\, </strong>from<strong> 7 a.m. &ndash\; 3 p.m.</strong>&nbsp\; The sale will be held in Conference Rooms C &amp\; D\, located on the third floor of the hospital.<br />\n&nbsp\;<br />\nYou&rsquo\;ll find tons of books\, children&rsquo\;s books\, cookbooks\, gifts\, toys and much\, much more &ndash\; at lower than retail price!&nbsp\; Profits from the Book Sale directly support Hanover Hospital programs and continuing education for hospital employees.&nbsp\; Cash\, check and charge are accepted.<br />\n&nbsp\;<br />\nFor information about the upcoming Book Sale or other Auxiliary events\, please call Anita Fordyce\, Auxiliary Secretary\, at (717) 316-2281 or <a href="mailto:fordycea@hanoverhospital.org">fordycea@hanoverhospital.org</a>.
LOCATION:The sale will be held in Conference Rooms C & D\, located on the third floor of the hospital.
UID:e.1500.2498
SEQUENCE:3
DTSTAMP:20260421T221104Z
URL:https://business.hanoverchamber.com/events/details/hanover-hospital-auxiliary-presents-book-gift-sale-2498
END:VEVENT

END:VCALENDAR
