BEGIN:VCALENDAR
VERSION:2.0
PRODID:-//ChamberMaster//Event Calendar 2.0//EN
METHOD:PUBLISH
X-PUBLISHED-TTL:P3D
REFRESH-INTERVAL:P3D
CALSCALE:GREGORIAN
BEGIN:VEVENT
DTSTART:20160602T140000Z
DTEND:20160602T180000Z
X-MICROSOFT-CDO-ALLDAYEVENT:FALSE
SUMMARY:Hanover Hiring Fair
DESCRIPTION:The Hanover Chamber has partnered with PA Career Link and the North Hanover Mall to present a Hanover Hiring Fair on Thursday\, June 2 from 10 a.m. to 2 p.m. at the North Hanover Mall.\n\n \n\nJob seekers should use the entrance by Littman Jewelers\; employer tables will be located in the center court. Please bring your resume and dress professionally.\nMore than 40 employers are scheduled to attend\, including:\n\n\nRing Container Technologies\n\nSonoco Plastics\n\nKroon Brothers Transport\n\nOx Paper Tube & Core\n\nHanover Hospital\n\nConewago Enterprises   Human Resources\n\nTimbar Packaging & Display Headquarters\n\nThrivent Financial\n\nVisiting Angels Hanover PA\n\nACNB Bank\n\nComForCare Home Care\n\nPathway Services Hanover\n\nHanover Public School District\n\nSpiriTrust Lutheran\n\nQuinn Flags\n\nDoceo Growth Partners\n\nPella Corporation\n\nPreferred HealthStaff Hanover\n\nKLK Welding\, inc\n\nAdvance Auto Parts\n\nLegacy Athletic\n\nAFLAC\n\nUS ArmyAerotek\n\nSpherion Staffing\n\nManpower\n\nPerformance Group\n\nAerotek\n\nMore employers to come!
X-ALT-DESC;FMTTYPE=text/html:The Hanover Chamber has partnered with PA Career Link and the North Hanover Mall to present a Hanover Hiring Fair on Thursday\, June 2 from 10 a.m. to 2 p.m. at the North Hanover Mall.<br />\n&nbsp\;<br />\nJob seekers should use the entrance by Littman Jewelers\; employer tables will be located in the center court. Please bring your resume and dress professionally.\n<p>More than 40 employers are scheduled to attend\, including:</p>\n\n<div>\n<p><a data-hovercard="/ajax/hovercard/page.php?id=168154723198960" href="https://www.facebook.com/pages/Ring-Container-Technologies/168154723198960">Ring Container Technologies</a><br />\nSonoco Plastics<br />\nKroon Brothers Transport<br />\n<a data-hovercard="/ajax/hovercard/page.php?id=162966040398304" href="https://www.facebook.com/pages/Ox-Paper-Tube-Core/162966040398304">Ox Paper Tube &amp\; Core</a><br />\n<a data-hovercard="/ajax/hovercard/page.php?id=168027546561588" href="https://www.facebook.com/HanoverHospital/">Hanover Hospital</a><br />\n<a data-hovercard="/ajax/hovercard/page.php?id=574238549346473" href="https://www.facebook.com/ConewagoHR/">Conewago Enterprises &ndash\; Human Resources</a><br />\n<a data-hovercard="/ajax/hovercard/page.php?id=104060962992369" href="https://www.facebook.com/pages/Timbar-Packaging-Display-Headquarters/104060962992369">Timbar Packaging &amp\; Display Headquarters</a><br />\nThrivent Financial<br />\n<a data-hovercard="/ajax/hovercard/page.php?id=168664819825653" href="https://www.facebook.com/Visiting-Angels-Hanover-PA-168664819825653/">Visiting Angels Hanover PA</a><br />\nACNB Bank<br />\n<a data-hovercard="/ajax/hovercard/page.php?id=971209029592959" href="https://www.facebook.com/comforcare.sphoenix/">ComForCare Home Care</a><br />\nPathway Services Hanover<br />\n<a data-hovercard="/ajax/hovercard/page.php?id=117166511676170" href="https://www.facebook.com/pages/Hanover-Public-School-District/117166511676170">Hanover Public School District</a><br />\nSpiriTrust Lutheran<br />\n<a data-hovercard="/ajax/hovercard/page.php?id=188488768902" href="https://www.facebook.com/Quinn-Flags-188488768902/">Quinn Flags</a><br />\nDoceo Growth Partners<br />\nPella Corporation<br />\n<a data-hovercard="/ajax/hovercard/page.php?id=1429714510637451" href="https://www.facebook.com/Preferred-HealthStaff-Hanover-1429714510637451/">Preferred HealthStaff Hanover</a><br />\n<a data-hovercard="/ajax/hovercard/page.php?id=198595190176692" href="https://www.facebook.com/KLK-Welding-inc-198595190176692/">KLK Welding\, inc</a><br />\nAdvance Auto Parts<br />\n<a data-hovercard="/ajax/hovercard/page.php?id=76161462511" href="https://www.facebook.com/LegacyAthletic/">Legacy Athletic</a><br />\nAFLAC<br />\nUS ArmyAerotek<br />\nSpherion Staffing<br />\nManpower<br />\nPerformance Group<br />\nAerotek</p>\n\n<p>More employers to come!</p>\n</div>\n
LOCATION:North Hanover Mall 1155 Carlisle Street Hanover\, PA 17331
UID:e.1500.1111
SEQUENCE:3
DTSTAMP:20260422T114351Z
URL:https://business.hanoverchamber.com/events/details/hanover-hiring-fair-06-02-2016-1111
END:VEVENT

END:VCALENDAR
