BEGIN:VCALENDAR
VERSION:2.0
PRODID:-//ChamberMaster//Event Calendar 2.0//EN
METHOD:PUBLISH
X-PUBLISHED-TTL:P3D
REFRESH-INTERVAL:P3D
CALSCALE:GREGORIAN
BEGIN:VEVENT
DTSTART:20170716T180000Z
DTEND:20170716T180000Z
X-MICROSOFT-CDO-ALLDAYEVENT:FALSE
SUMMARY:Hanover Hall Butterfly Release
DESCRIPTION:Hanover Hall is holding a memorial Butterfly Release on July 16\, 2017 at 2pm with light refreshments following the service. We invite you\, friends and family to join us in a celebration of those passed.
X-ALT-DESC;FMTTYPE=text/html:Hanover Hall is holding a memorial Butterfly Release on July 16\, 2017 at 2pm with light refreshments following the service. We invite you\, friends and family to join us in a celebration of those passed.&nbsp\;
LOCATION:Hanover Hall 267 Frederick St. Hanover\, PA 17331
UID:e.1500.2986
SEQUENCE:3
DTSTAMP:20260421T152846Z
URL:https://business.hanoverchamber.com/events/details/hanover-hall-butterfly-release-2986
END:VEVENT

END:VCALENDAR
