BEGIN:VCALENDAR
VERSION:2.0
PRODID:-//ChamberMaster//Event Calendar 2.0//EN
METHOD:PUBLISH
X-PUBLISHED-TTL:P3D
REFRESH-INTERVAL:P3D
CALSCALE:GREGORIAN
BEGIN:VEVENT
DTSTART:20161028T220000Z
DTEND:20161029T000000Z
X-MICROSOFT-CDO-ALLDAYEVENT:FALSE
SUMMARY:Hanover Ghost Walks
DESCRIPTION:Richard Gldfelter will lead the 11th annual Ghost Walks through the streets of Hanover and share ghost stories. The walks begin at 6 pm at Emmanuel UCC\, 124 Broadway. \n\nAt the end of the tours on Oct. 28 & 29\, Henry McLin will talk about the hauntings at Emmanuel and Don Horneff will play organ music. \n\nProceeds go to EUCC.
X-ALT-DESC;FMTTYPE=text/html:Richard Gldfelter will lead the 11th&nbsp\;annual Ghost Walks through the streets of Hanover and share ghost stories. The walks begin at 6 pm at Emmanuel UCC\, 124 Broadway.&nbsp\;<br />\nAt the end of the tours on Oct. 28 &amp\; 29\, Henry McLin will talk about the hauntings at Emmanuel and Don Horneff will play organ music.&nbsp\;<br />\nProceeds go to EUCC.&nbsp\;
LOCATION:Emmanuel UCC 124 Broadway St. Hanover\, PA 17331
UID:e.1500.2256
SEQUENCE:3
DTSTAMP:20260422T055142Z
URL:https://business.hanoverchamber.com/events/details/hanover-ghost-walks-2256
END:VEVENT

END:VCALENDAR
