BEGIN:VCALENDAR
VERSION:2.0
PRODID:-//ChamberMaster//Event Calendar 2.0//EN
METHOD:PUBLISH
X-PUBLISHED-TTL:P3D
REFRESH-INTERVAL:P3D
CALSCALE:GREGORIAN
BEGIN:VEVENT
DTSTART:20150604T150000Z
DTEND:20150604T223000Z
X-MICROSOFT-CDO-ALLDAYEVENT:FALSE
SUMMARY:Hanover Chamber Golf Outing 06/04/15
DESCRIPTION:COME JOIN US FOR OUR ANNUAL GOLF OUTING AT THE HANOVER COUNTRY CLUB!\n\n\n\nRain or Shine!
X-ALT-DESC;FMTTYPE=text/html:<span style="color:#008000\;"><strong><em>COME JOIN US FOR OUR ANNUAL GOLF OUTING AT THE HANOVER COUNTRY CLUB!</em></strong></span><br />\n<br />\nRain or Shine!
LOCATION:Hanover Country Club 200 East Water St. Abbottstown\, PA 17301
UID:e.1500.853
SEQUENCE:3
DTSTAMP:20260423T052655Z
URL:https://business.hanoverchamber.com/events/details/hanover-chamber-golf-outing-06-04-15-06-04-2015-853
END:VEVENT

END:VCALENDAR
